BEGIN:VCALENDAR
VERSION:2.0
PRODID:icalendar-ruby
CALSCALE:GREGORIAN
METHOD:PUBLISH
BEGIN:VEVENT
DTSTAMP:20260422T062809Z
UID:116-892577@fbcwestonmo.com
DTSTART:20260506T220000Z
DTEND:20260507T000000Z
CLASS:PUBLIC
CREATED:20260420T095621
DESCRIPTION:On Wednesday\, May 6th join us at the West Platte Performing Ar
 ts Center to celebrate and honor the graduating seniors from West Platte. 
 FBC Weston is hosting the reception following the service. 
LAST-MODIFIED:20260420T095621
LOCATION:
SUMMARY:West Platte Baccalaureate Service
URL;VALUE=URI:https://fbcwestonmo.com/events/west-platte-baccalaureate-serv
 ice/2026-05-06
ATTACH;FILENAME=IMG_7040.jpeg;FMTTYPE=image/jpeg:https://dq5pwpg1q8ru0.clou
 dfront.net/2026/04/20/14/53/28/13cd192a-2d7f-4d6a-9c3c-50255a050373/IMG_70
 40.jpeg
END:VEVENT
END:VCALENDAR
