BEGIN:VCALENDAR
VERSION:2.0
PRODID:icalendar-ruby
CALSCALE:GREGORIAN
METHOD:PUBLISH
BEGIN:VEVENT
DTSTAMP:20260422T062630Z
UID:115-892574@fbcwestonmo.com
DTSTART:20260601T150000Z
DTEND:20260630T160000Z
CLASS:PUBLIC
CREATED:20260420T094625
DESCRIPTION:We are collecting items to help re-stock the new Weston Communi
 ty Food Pantry during the month of June. Please bring items to the church 
 for collection. Please see your emails for a document with the items neede
 d. 
LAST-MODIFIED:20260420T094625
LOCATION:
SUMMARY:Food Pantry Collection
URL;VALUE=URI:https://fbcwestonmo.com/events/food-pantry-collection/2026-06
 -01
ATTACH;FILENAME=IMG_7039.png;FMTTYPE=image/png:https://dq5pwpg1q8ru0.cloudf
 ront.net/2026/04/20/14/46/25/9cd485df-6af2-40f7-8d6a-b3912ab5dd8d/IMG_7039
 .png
END:VEVENT
END:VCALENDAR
